BEGIN:VCALENDAR
VERSION:2.0
PRODID:-//United Innovations - ECPv6.15.15//NONSGML v1.0//EN
CALSCALE:GREGORIAN
METHOD:PUBLISH
X-WR-CALNAME:United Innovations
X-ORIGINAL-URL:https://www.united-innovations.eu
X-WR-CALDESC:Veranstaltungen für United Innovations
REFRESH-INTERVAL;VALUE=DURATION:PT1H
X-Robots-Tag:noindex
X-PUBLISHED-TTL:PT1H
BEGIN:VTIMEZONE
TZID:Europe/Berlin
BEGIN:DAYLIGHT
TZOFFSETFROM:+0100
TZOFFSETTO:+0200
TZNAME:CEST
DTSTART:20240331T010000
END:DAYLIGHT
BEGIN:STANDARD
TZOFFSETFROM:+0200
TZOFFSETTO:+0100
TZNAME:CET
DTSTART:20241027T010000
END:STANDARD
BEGIN:DAYLIGHT
TZOFFSETFROM:+0100
TZOFFSETTO:+0200
TZNAME:CEST
DTSTART:20250330T010000
END:DAYLIGHT
BEGIN:STANDARD
TZOFFSETFROM:+0200
TZOFFSETTO:+0100
TZNAME:CET
DTSTART:20251026T010000
END:STANDARD
BEGIN:DAYLIGHT
TZOFFSETFROM:+0100
TZOFFSETTO:+0200
TZNAME:CEST
DTSTART:20260329T010000
END:DAYLIGHT
BEGIN:STANDARD
TZOFFSETFROM:+0200
TZOFFSETTO:+0100
TZNAME:CET
DTSTART:20261025T010000
END:STANDARD
END:VTIMEZONE
BEGIN:VEVENT
DTSTART;TZID=Europe/Berlin:20250527T153000
DTEND;TZID=Europe/Berlin:20250527T170000
DTSTAMP:20260426T040236
CREATED:20250204T100902Z
LAST-MODIFIED:20250513T073935Z
UID:24858-1748359800-1748365200@www.united-innovations.eu
SUMMARY:Insights: ITSM & RBVM (Risikobasiertes Schwachstellenmanagement)
DESCRIPTION:Agenda\n					\n					\n				\n								\n				\n				\n				\n					\n	Insights: ITSM & RBVM (Risikobasiertes Schwachstellenmanagement)				\n				\n				\n				\n					\n	\n	Datum und Uhrzeit:	\n			27.05.2025\n\n	\n\n	  |  \n\n\n15:30\n\n		\n\n\n\n	\n	  -  \n\n17:00\n\n\n\n	\n				\n				\n				\n				\n									Online-Session 								\n				\n					\n		\n					\n		\n					\n		\n					\n		\n				\n						\n					\n			\n						\n				\n									Sicherheitslücken und Schwachstellen stellen für Unternehmen das größte Risiko dar. In diesem Insights diskutieren wir mit IT-Security Expert:innen die Frage: Wie kann man seine Strategie zur Verwaltung von Sicherheitslücken zu einem risikobasierten Ansatz weiterentwickeln? 								\n				\n				\n				\n					\n	Insights: ITSM & RBVM (Risikobasiertes Schwachstellenmanagement)				\n				\n				\n				\n									Online-Session\, Datum und Uhrzeit: 								\n				\n				\n				\n					\n		\n			27.05.2025\n\n	\n\n	  |  \n\n\n15:30\n\n		\n\n\n\n	\n	  -  \n\n17:00\n\n\n\n	\n				\n				\n				\n						\n					\n			\n						\n				\n									\n					\n						\n									Anmeldung\n					\n					\n				\n								\n				\n					\n		\n				\n			\n						\n				\n									\n					\n						\n									Kontakt\n					\n					\n				\n								\n				\n					\n		\n				\n			\n						\n				\n					\n	\n		\n\n	\n	Zum Kalender hinzufügen	\n		\n	\n\n		\n			\n									\n	Google Kalender\n\n									\n	iCalendar\n\n									\n	Outlook 365\n\n									\n	Outlook Live\n\n							\n		\n\n		\n	\n\n				\n				\n					\n		\n					\n		\n					\n		\n					\n		\n				\n						\n					\n			\n						\n				\n					Agenda				\n				\n				\n				\n							\n			\n						\n		\n						\n				\n				\n						\n					\n			\n						\n				\n					15.30 – 15.35 Uhr I Begrüßung und Vorstellung der Teilnehmer:innen				\n				\n				\n				\n					Dr. Gerd GroßeVorstandsvorsitzender GFFT e.V.\, Head of United Innovations 				\n				\n					\n		\n					\n		\n				\n				\n							\n			\n						\n		\n						\n				\n				\n						\n					\n			\n						\n				\n					15.35 – 16.00 Uhr I ITSM neu gedacht: ITSM & RBVM Sicherheit auf dem nächsten Level				\n				\n				\n				\n					Andreas SchmidDirector Solution Sales\, Ivanti 				\n				\n					\n		\n					\n		\n				\n						\n					\n			\n						\n				\n							\n			\n						\n		\n						\n				\n					\n		\n					\n		\n				\n						\n					\n			\n							\n		\n					\n		\n				\n						\n					\n			\n						\n				\n					16.00 – 16.50 Uhr I  Gemeinsame Diskussion u.a. mit				\n				\n					\n		\n					\n		\n				\n						\n					\n			\n						\n				\n					Michael SchorppGlobal Regulatory Affairs\, Boehringer Ingelheim International GmbH 				\n				\n				\n				\n					Thorsten KatzInformation Security Officer Airline\, Corporate & Sustanability\, TUI Deutschland GmbH\n 				\n				\n				\n				\n					 Volker RathInformation Technology – Quality Assurance\, Miele & Cie. KG 				\n				\n				\n				\n					Dr. Timo WandhöferGroup CISO / Head of Information Security & Business Continuity Management\, Klöckner & Co SE 				\n				\n					\n		\n				\n			\n						\n				\n					Mats BeckerHead of IT Security Architecture\, B. Braun SE 				\n				\n				\n				\n					Ralf BuchrothInformationssicherheit & Notfallmanagement\, Provinzial Versicherung AG  				\n				\n				\n				\n					Fabian Herbert MaierSecurity Global Process Owner\, MAHLE Filtersysteme Austria GmbH 				\n				\n				\n				\n					Johannes BöckhTeam Leader Information Security Management\, Dachser SE 				\n				\n					\n		\n					\n		\n				\n				\n							\n			\n						\n		\n						\n				\n				\n						\n					\n			\n						\n				\n					16.50– 17.00 Uhr I Zusammenfassung				\n				\n					\n		\n					\n		\n				\n				\n							\n			\n						\n		\n						\n				\n				\n				\n					\n	\n		\n\n				Symposium zur Zukunft der Produktion 2024/2025	\n\n\n		\n	\n		Insights: Qualität von KI - Testen von Chatbots und semantischer Korrektheit			\n\n	\n\n				\n				\n					\n		\n					\n		\n				\n							\n							\n					\n			\n						\n				\n					\n	Insights: ITSM & RBVM (Risikobasiertes Schwachstellenmanagement)				\n				\n				\n						\n					\n			\n						\n				\n									\n					\n						\n									Anmeldung\n					\n					\n				\n								\n				\n				\n				\n							\n							\n					\n						Linkedin\n											\n				\n							\n					\n						Youtube
URL:https://www.united-innovations.eu/event/insights-itsm-und-rbvm-securityexpertinnen/
LOCATION:Virtuelles Event
CATEGORIES:Cybersecurity
END:VEVENT
END:VCALENDAR