BEGIN:VCALENDAR
VERSION:2.0
PRODID:-//United Innovations - ECPv6.15.15//NONSGML v1.0//EN
CALSCALE:GREGORIAN
METHOD:PUBLISH
X-WR-CALNAME:United Innovations
X-ORIGINAL-URL:https://www.united-innovations.eu
X-WR-CALDESC:Veranstaltungen für United Innovations
REFRESH-INTERVAL;VALUE=DURATION:PT1H
X-Robots-Tag:noindex
X-PUBLISHED-TTL:PT1H
BEGIN:VTIMEZONE
TZID:Europe/Berlin
BEGIN:DAYLIGHT
TZOFFSETFROM:+0100
TZOFFSETTO:+0200
TZNAME:CEST
DTSTART:20240331T010000
END:DAYLIGHT
BEGIN:STANDARD
TZOFFSETFROM:+0200
TZOFFSETTO:+0100
TZNAME:CET
DTSTART:20241027T010000
END:STANDARD
BEGIN:DAYLIGHT
TZOFFSETFROM:+0100
TZOFFSETTO:+0200
TZNAME:CEST
DTSTART:20250330T010000
END:DAYLIGHT
BEGIN:STANDARD
TZOFFSETFROM:+0200
TZOFFSETTO:+0100
TZNAME:CET
DTSTART:20251026T010000
END:STANDARD
BEGIN:DAYLIGHT
TZOFFSETFROM:+0100
TZOFFSETTO:+0200
TZNAME:CEST
DTSTART:20260329T010000
END:DAYLIGHT
BEGIN:STANDARD
TZOFFSETFROM:+0200
TZOFFSETTO:+0100
TZNAME:CET
DTSTART:20261025T010000
END:STANDARD
END:VTIMEZONE
BEGIN:VEVENT
DTSTART;TZID=Europe/Berlin:20251030T153000
DTEND;TZID=Europe/Berlin:20251030T170000
DTSTAMP:20260424T144850
CREATED:20250205T113603Z
LAST-MODIFIED:20251023T060809Z
UID:25072-1761838200-1761843600@www.united-innovations.eu
SUMMARY:Insights: Agentic AI - Geschäftsprozesse effizienter & effektiver machen
DESCRIPTION:Agenda\n					\n					\n				\n								\n				\n				\n				\n					\n	\n	Datum und Uhrzeit:	\n			30.10.2025\n\n	\n\n	  |  \n\n\n15:30\n\n		\n\n\n\n	\n	  -  \n\n17:00\n\n\n\n	\n				\n				\n				\n				\n					\n	Insights: Agentic AI – Geschäftsprozesse effizienter & effektiver machen				\n				\n				\n				\n									Online-Session 								\n				\n					\n		\n					\n		\n					\n		\n					\n		\n				\n						\n					\n			\n						\n				\n									Copilot wird bereits vielfach zur Steigerung der persönlichen Produktivität genutzt – etwa für Textgenerierung oder Meeting-Transkripte. Doch wie lässt sich KI strategisch einsetzen\, um ganze Geschäftsprozesse zu optimieren? Wir zeigen\, wie KI-Agenten die Abläufe in verschiedenen Geschäftsbereichen effizienter machen und wie sich Copilot über die individuelle Nutzung hinaus in unternehmenskritische Prozesse integrieren lässt. In unserem Vortrag präsentieren wir konkrete Beispiele und erklären\, auf welche Weise Unternehmen von Agentic AI profitieren. 								\n				\n				\n				\n					\n	Insights: Agentic AI – Geschäftsprozesse effizienter & effektiver machen				\n				\n				\n				\n									Online-Session\, Datum und Uhrzeit: 								\n				\n				\n				\n					\n		\n			30.10.2025\n\n	\n\n	  |  \n\n\n15:30\n\n		\n\n\n\n	\n	  -  \n\n17:00\n\n\n\n	\n				\n				\n				\n						\n					\n			\n						\n				\n									\n					\n						\n									Anmeldung\n					\n					\n				\n								\n				\n					\n		\n				\n			\n						\n				\n									\n					\n						\n									Kontakt\n					\n					\n				\n								\n				\n					\n		\n				\n			\n						\n				\n					\n	\n		\n\n	\n	Zum Kalender hinzufügen	\n		\n	\n\n		\n			\n									\n	Google Kalender\n\n									\n	iCalendar\n\n									\n	Outlook 365\n\n									\n	Outlook Live\n\n							\n		\n\n		\n	\n\n				\n				\n					\n		\n					\n		\n					\n		\n					\n		\n				\n						\n					\n			\n						\n				\n					Agenda				\n				\n				\n				\n							\n			\n						\n		\n						\n				\n				\n						\n					\n			\n						\n				\n					15.30 Uhr I Begrüßung und Vorstellung der Teilnehmer:innen				\n				\n				\n				\n					Dr. Gerd GroßeVorstandsvorsitzender GFFT e.V.Head of United Innovations 				\n				\n					\n		\n					\n		\n				\n				\n							\n			\n						\n		\n						\n				\n				\n						\n					\n			\n						\n				\n					15.45 Uhr I Agentic AI – Geschäftsprozesse effizienter & effektiver machen 				\n				\n					\n		\n					\n		\n				\n						\n					\n			\n						\n				\n					Sven KreimendahlSenior Advisor | Thought Leader Modern IT Organisations  & AICampana & Schott 				\n				\n					\n		\n				\n			\n						\n				\n					Bastian EmondtsPrincipal - Head of Practice Unit Application InnovationCampana & Schott 				\n				\n					\n		\n					\n		\n				\n				\n							\n			\n						\n		\n						\n				\n				\n				\n					16:15 Uhr I Gemeinsame Diskussion mit Teilnehmer				\n				\n				\n				\n							\n			\n						\n		\n						\n				\n				\n				\n					\n	\n		\n\n				Insights: Successful Approaches to Data Governance and Data Analytics	\n\n\n		\n	\n		Industry Summit 2025			\n\n	\n\n				\n				\n					\n		\n					\n		\n				\n							\n							\n					\n			\n						\n				\n					\n	Insights: Agentic AI – Geschäftsprozesse effizienter & effektiver machen				\n				\n				\n						\n					\n			\n						\n				\n									\n					\n						\n									Anmeldung\n					\n					\n				\n								\n				\n				\n				\n							\n							\n					\n						Linkedin\n											\n				\n							\n					\n						Youtube
URL:https://www.united-innovations.eu/event/insights-agentic-ai/
LOCATION:Virtuelles Event
CATEGORIES:Software
END:VEVENT
END:VCALENDAR